BEGIN:VCALENDAR
VERSION:2.0
PRODID:-//Plone.org//NONSGML plone.app.event//EN
X-WR-TIMEZONE:America/Sao_Paulo
BEGIN:VEVENT
SUMMARY:Homenagem Rodrigo Pacheco em [ Auditorio da Reitoria]
DTSTART;TZID=America/Sao_Paulo;VALUE=DATE-TIME:20240830T070000
DTEND;TZID=America/Sao_Paulo;VALUE=DATE-TIME:20240830T210000
DTSTAMP;VALUE=DATE-TIME:20260419T222952Z
UID:f43363f822464ccd96591bf28a2b2f75@150.164.76.86:8080
CREATED;VALUE=DATE-TIME:20240711T162733Z
DESCRIPTION:<p>homenagem Senador Rodrigo Pacheco</p>
LAST-MODIFIED;VALUE=DATE-TIME:20240822T143224Z
URL:http://150.164.76.86:8080/cac/agenda/1899520632380845286
END:VEVENT
BEGIN:VTIMEZONE
TZID:America/Sao_Paulo
X-LIC-LOCATION:America/Sao_Paulo
BEGIN:STANDARD
DTSTART;VALUE=DATE-TIME:20240217T230000
TZNAME:BRT
TZOFFSETFROM:-0200
TZOFFSETTO:-0300
END:STANDARD
END:VTIMEZONE
END:VCALENDAR
