BEGIN:VCALENDAR
VERSION:2.0
PRODID:-//Plone.org//NONSGML plone.app.event//EN
X-WR-TIMEZONE:America/Sao_Paulo
BEGIN:VEVENT
SUMMARY:Feriado Corpus Christi em [ Saguao da Reitoria Auditorio da Reitor
 ia Gramado da Reitoria Entorno da Praca de Servicos Auditorio Nobre do CAD
  1 Auditorio 1A do CAD 1 Auditorio 2A do CAD 1 Auditorio A102 do Cad 2 Aud
 itorio A104 do Cad 2 Arena da praça de serviços Auditório B302 do CAD 3
  Auditório B101/102 do CAD 3 Auditório B301 do CAD 3]
DTSTART;TZID=America/Sao_Paulo;VALUE=DATE-TIME:20220616T000000
DTEND;TZID=America/Sao_Paulo;VALUE=DATE-TIME:20220616T230000
DTSTAMP;VALUE=DATE-TIME:20260422T081355Z
UID:d56fa32938b34db5aa02b281bf5055ec@150.164.76.86:8080
CREATED;VALUE=DATE-TIME:20211122T144433Z
DESCRIPTION:<p>.</p>
LAST-MODIFIED;VALUE=DATE-TIME:20230111T201051Z
URL:http://150.164.76.86:8080/cac/agenda/1897688433973663965
END:VEVENT
BEGIN:VTIMEZONE
TZID:America/Sao_Paulo
X-LIC-LOCATION:America/Sao_Paulo
BEGIN:STANDARD
DTSTART;VALUE=DATE-TIME:20220219T230000
TZNAME:BRT
TZOFFSETFROM:-0200
TZOFFSETTO:-0300
END:STANDARD
END:VTIMEZONE
END:VCALENDAR
