BEGIN:VCALENDAR
VERSION:2.0
PRODID:-//Plone.org//NONSGML plone.app.event//EN
X-WR-TIMEZONE:America/Sao_Paulo
BEGIN:VEVENT
SUMMARY:Sarau Vivência Negra - Recepção Negra UFMG em [ Arena da praça
  de serviços]
DTSTART;TZID=America/Sao_Paulo;VALUE=DATE-TIME:20230825T170000
DTEND;TZID=America/Sao_Paulo;VALUE=DATE-TIME:20230825T190000
DTSTAMP;VALUE=DATE-TIME:20260421T091413Z
UID:10c0e848590446f0ae4d06556778347e@150.164.76.86:8080
CREATED;VALUE=DATE-TIME:20230808T130018Z
DESCRIPTION:<p>Sarau Vivência Negra - Recepção Negra UFMG O Sarau seria
  promovido através da parceria tripla entre o CCN (Centro de Convivência
  Negra\, o DCE (Diretório Central dos Estudantes) e o D.A FaE (Diretório
  Acadêmico). Seria a atividade final da programação da recepção negra
 \, que acontecerá do dia 21 a 25 de Agosto e possui a meta principal de o
 cupação de território e captação/acolhimento de estudantes negres da 
 UFMG.</p>
LAST-MODIFIED;VALUE=DATE-TIME:20230808T144140Z
URL:http://150.164.76.86:8080/cac/agenda/1874261047687966667
END:VEVENT
BEGIN:VTIMEZONE
TZID:America/Sao_Paulo
X-LIC-LOCATION:America/Sao_Paulo
BEGIN:STANDARD
DTSTART;VALUE=DATE-TIME:20230225T230000
TZNAME:BRT
TZOFFSETFROM:-0200
TZOFFSETTO:-0300
END:STANDARD
END:VTIMEZONE
END:VCALENDAR
