BEGIN:VCALENDAR
VERSION:2.0
PRODID:-//Plone.org//NONSGML plone.app.event//EN
X-WR-TIMEZONE:America/Sao_Paulo
BEGIN:VEVENT
SUMMARY:APRESENTAÇÃO DO CENTRO DE COMUNICAÇÃO DA UFMG em [ Outros espa
 cos]
DTSTART;TZID=America/Sao_Paulo;VALUE=DATE-TIME:20220714T100000
DTEND;TZID=America/Sao_Paulo;VALUE=DATE-TIME:20220714T113000
DTSTAMP;VALUE=DATE-TIME:20260422T044516Z
UID:9419436a80c749ef8b0214c8b7788091@150.164.76.86:8080
CREATED;VALUE=DATE-TIME:20220624T144636Z
DESCRIPTION:<div>\n<div>Abertura e Apresentação: Fábia Lima e Flávio A
 lmeida\, Diretores do Cedecom [40 min]</div>\n<div>Diálogo com os convida
 dos [30 min]</div>\n</div>\n<div>- Público convidado: Diretores de Unidad
 es e seus Assessores de Comunicação </div>
LAST-MODIFIED;VALUE=DATE-TIME:20220713T120011Z
URL:http://150.164.76.86:8080/cac/agenda/1870066776712165435
END:VEVENT
BEGIN:VTIMEZONE
TZID:America/Sao_Paulo
X-LIC-LOCATION:America/Sao_Paulo
BEGIN:STANDARD
DTSTART;VALUE=DATE-TIME:20220219T230000
TZNAME:BRT
TZOFFSETFROM:-0200
TZOFFSETTO:-0300
END:STANDARD
END:VTIMEZONE
END:VCALENDAR
