BEGIN:VCALENDAR
VERSION:2.0
PRODID:-//Plone.org//NONSGML plone.app.event//EN
X-WR-TIMEZONE:America/Sao_Paulo
BEGIN:VEVENT
SUMMARY:UBUNTU - 2° Colóquio Internacional de Decolonização e Psicaná
 lise em [ Auditorio A102 do Cad 2 Auditorio A104 do Cad 2]
DTSTART;TZID=America/Sao_Paulo;VALUE=DATE-TIME:20231113T070000
DTEND;TZID=America/Sao_Paulo;VALUE=DATE-TIME:20231114T210000
DTSTAMP;VALUE=DATE-TIME:20260420T131721Z
UID:089d3350de73415cb5305107499a9a41@150.164.76.86:8080
CREATED;VALUE=DATE-TIME:20230414T112723Z
DESCRIPTION:<p>O colóquio\, em si\, terá mesas-eixos contando com 12 con
 vidados internacionais e diversos convidados locais\, de saberes formais e
  informais\, trabalhando em torno de problemas concretos. Também abrigar
 á cinco seminários menores\, fruto dos eixos da pesquisa que sustenta o 
 Programa Decolonização e Psicanálise. São eles: (1) Seminário sobre o
 s impasses para o Direito\, a História e a Psicanálise advindos do pensa
 mento social brasileiro\; (2) Seminário sobre a decolonização do concei
 to de falo na teoria psicanalítica\; (3) Seminário sobre as clínicas ps
 icanalíticas de borda\; (4) Seminário sobre experiências clínicas deco
 loniais. Além disso\, mescla arte e cultura numa estética periférica e 
 descentralizada\, como modos de intervenção e produção de olhares sens
 íveis plurais. Os intervalos terão performances curtas de atos artístic
 os também oriundos da pesquisa central. Os equipamentos necessários para
  a realização do colóquio são: Caixas de som\, microfones\, computador
 es e projetores.</p>
LAST-MODIFIED;VALUE=DATE-TIME:20230418T123019Z
URL:http://150.164.76.86:8080/cac/agenda/1867344561013057142
END:VEVENT
BEGIN:VTIMEZONE
TZID:America/Sao_Paulo
X-LIC-LOCATION:America/Sao_Paulo
BEGIN:DAYLIGHT
DTSTART;VALUE=DATE-TIME:20231015T010000
TZNAME:BRST
TZOFFSETFROM:-0300
TZOFFSETTO:-0200
END:DAYLIGHT
END:VTIMEZONE
END:VCALENDAR
