BEGIN:VCALENDAR
VERSION:2.0
PRODID:-//Plone.org//NONSGML plone.app.event//EN
X-WR-TIMEZONE:America/Sao_Paulo
BEGIN:VEVENT
SUMMARY:Palestra: A politica nacional de educação bilíngue de surdos em
  [ Auditorio A102 do Cad 2]
DTSTART;TZID=America/Sao_Paulo;VALUE=DATE-TIME:20250429T190000
DTEND;TZID=America/Sao_Paulo;VALUE=DATE-TIME:20250429T220000
DTSTAMP;VALUE=DATE-TIME:20260419T103338Z
UID:97ec5c013a4040b09d9ad033843d13ec@150.164.76.86:8080
CREATED;VALUE=DATE-TIME:20250306T173906Z
DESCRIPTION:Importante palestra na área de Libras. Palestrantes: Guilherm
 e Lourenço e um representante da DIPEBS/SECADI/MEC
LAST-MODIFIED;VALUE=DATE-TIME:20250429T185644Z
URL:http://150.164.76.86:8080/cac/agenda/1849948725389055724
END:VEVENT
BEGIN:VTIMEZONE
TZID:America/Sao_Paulo
X-LIC-LOCATION:America/Sao_Paulo
BEGIN:STANDARD
DTSTART;VALUE=DATE-TIME:20250215T230000
TZNAME:BRT
TZOFFSETFROM:-0200
TZOFFSETTO:-0300
END:STANDARD
END:VTIMEZONE
END:VCALENDAR
