BEGIN:VCALENDAR
VERSION:2.0
PRODID:-//Plone.org//NONSGML plone.app.event//EN
X-WR-TIMEZONE:America/Sao_Paulo
BEGIN:VEVENT
SUMMARY:Lançamento do site e livro Ester de Abreu - uma biografia em [ Au
 ditorio A102 do Cad 2]
DTSTART;TZID=America/Sao_Paulo;VALUE=DATE-TIME:20241011T170000
DTEND;TZID=America/Sao_Paulo;VALUE=DATE-TIME:20241011T220000
DTSTAMP;VALUE=DATE-TIME:20260419T192257Z
UID:c65d69bc1e6348818e5fd50a26157ca8@150.164.76.86:8080
CREATED;VALUE=DATE-TIME:20240911T224006Z
DESCRIPTION:<p>- Computador com acesso à internet para projeção no tel
 ão e som\; - Dois microfones de mesa\; - Mesa de apoio no espaço externo
  Lançamento do site e livro "Ester de Abreu - convite a uma biografia"\, 
 de Antônia Lúcia de Morais\, produzido em parceria com o programa de ext
 ensão Aqui e Outrora\, coordenado pelo professor Nísio Teixeira. O event
 o será assessorado pela empresa jr. de Comunicação Social\, a CRIA. O l
 ivro será distribuído gratuitamente. Programação 17h às 18h55 - Prepa
 ração 19 h - Início com pronunciamentos 19h30 - Fim dos pronunciamentos
  19h35 - Projeção de vídeos selecionados pelo projeto "Ester de Abreu -
  convite a uma biografia"\, evidenciando a performance e trajetória inté
 rprete luso-brasileira 20h - Coffee-break de lançamento - início da sess
 ão de autógrafos 21h - fim da sessão de autógrafos - encerramento 21h3
 0 às 22 horas - "Desprodução" do evento</p>
LAST-MODIFIED;VALUE=DATE-TIME:20240920T124012Z
URL:http://150.164.76.86:8080/cac/agenda/18444068223879745091
END:VEVENT
BEGIN:VTIMEZONE
TZID:America/Sao_Paulo
X-LIC-LOCATION:America/Sao_Paulo
BEGIN:STANDARD
DTSTART;VALUE=DATE-TIME:20240217T230000
TZNAME:BRT
TZOFFSETFROM:-0200
TZOFFSETTO:-0300
END:STANDARD
END:VTIMEZONE
END:VCALENDAR
