BEGIN:VCALENDAR
VERSION:2.0
PRODID:-//Plone.org//NONSGML plone.app.event//EN
X-WR-TIMEZONE:America/Sao_Paulo
BEGIN:VEVENT
SUMMARY:Reunião de Equipe da Reitora em [ Outros espacos]
DTSTART;TZID=America/Sao_Paulo;VALUE=DATE-TIME:20240607T093000
DTEND;TZID=America/Sao_Paulo;VALUE=DATE-TIME:20240607T123000
DTSTAMP;VALUE=DATE-TIME:20260420T012541Z
UID:ac4be451262f47529a6c7b04a332ba31@150.164.76.86:8080
CREATED;VALUE=DATE-TIME:20240516T121328Z
DESCRIPTION:<p>Reunião de equipe da Reitora</p>
LAST-MODIFIED;VALUE=DATE-TIME:20240516T121405Z
URL:http://150.164.76.86:8080/cac/agenda/18436739839108447864
END:VEVENT
BEGIN:VTIMEZONE
TZID:America/Sao_Paulo
X-LIC-LOCATION:America/Sao_Paulo
BEGIN:STANDARD
DTSTART;VALUE=DATE-TIME:20240217T230000
TZNAME:BRT
TZOFFSETFROM:-0200
TZOFFSETTO:-0300
END:STANDARD
END:VTIMEZONE
END:VCALENDAR
