BEGIN:VCALENDAR
VERSION:2.0
PRODID:-//Plone.org//NONSGML plone.app.event//EN
X-WR-TIMEZONE:America/Sao_Paulo
BEGIN:VEVENT
SUMMARY:Evento de formação de formadores. Cooperação técnica UFMG\, S
 tanford University e Instituto Canoa em [ Auditório B101/102 do CAD 3]
DTSTART;TZID=America/Sao_Paulo;VALUE=DATE-TIME:20250322T120000
DTEND;TZID=America/Sao_Paulo;VALUE=DATE-TIME:20250329T120000
DTSTAMP;VALUE=DATE-TIME:20260419T120008Z
UID:4170766af24545578b284b31d6a61726@150.164.76.86:8080
CREATED;VALUE=DATE-TIME:20241018T013659Z
DESCRIPTION:<p>Realização da formação de formadores da cooperação t
 écnica entre UFMG\, Stanford University e Instituto Canoa. O espaço do p
 alco e área da frente serão instaladas mesas e cadeiras para trabalhos e
 m grupos. A projeção ocorrerá na parede próxima a cabine e iremos leva
 r o projetor adequado\, computador e extensão. Precisaremos de utilizar o
  hall de entrada para o Coffee break. A cozinha do CAD3 também será nece
 ssária como apoio para o evento. Programação ao longo da semana todos o
 s dias o intervalo para almoço será 12h30 - 14h\; Sábado (22 de março)
  e domingo (23 de março/2025): preparação dos espaços para a realizaç
 ão do evento na segunda (24/03/2025) `8:00 horas da manhã. 2a. feira (24
  de março/2025) 8h00 às 9h30: Recepção\; 9h30: Introdução e orienta
 ção para o dia\; 10:00-12:30 Fazendo Ciências e Matemática juntos\; 14
 h-17h: Planejamento do currículo em ação: pensando nas compreensões de
 sejadas 3a. feira (25 de março/2025) 8h30 às 9h30: Orientação e devolu
 tivas\; 9:30-12:30 Avaliação para a equidade\; 14h-17h:Pesquisa em educa
 ção 4a. feira (26 de março/2025) 8h30 às 9h30: Orientação e devoluti
 vas\; 9:30-12:30 Ensino de Matemática ou Ciências em salas de aula equit
 ativas I\; 14h-17h: Educação e Democracia em um mundo desigual 5a. feira
  (27 de março/2025) 8h30 às 9h30: Orientação e devolutivas\; 9:30-12:3
 0 Ensino de Matemática ou Ciências em salas de aula equitativas II\; 14h
 -17h: Trabalho em grupo em salas de aula heterogêneas 6a. feira (28 de ma
 rço/2025) 8h30 às 9h30: Orientação e devolutivas\; 9:30-12:30 Construi
 ndo o Portfólio/Padrões Profissionais\; 14h-17h:Construindo a Rede PED S
 ábado (29 de março/2025): 9h-12h: Autovaliação\, avaliação e fechame
 nto do evento Observação: Ao longo da semana de formação\, haverá int
 ervalo para almoço de 12h30 - 14h</p>
LAST-MODIFIED;VALUE=DATE-TIME:20241205T201741Z
URL:http://150.164.76.86:8080/cac/agenda/18427369400293771075
END:VEVENT
BEGIN:VTIMEZONE
TZID:America/Sao_Paulo
X-LIC-LOCATION:America/Sao_Paulo
BEGIN:STANDARD
DTSTART;VALUE=DATE-TIME:20250215T230000
TZNAME:BRT
TZOFFSETFROM:-0200
TZOFFSETTO:-0300
END:STANDARD
END:VTIMEZONE
END:VCALENDAR
