BEGIN:VCALENDAR
VERSION:2.0
PRODID:-//Plone.org//NONSGML plone.app.event//EN
X-WR-TIMEZONE:America/Sao_Paulo
BEGIN:VEVENT
SUMMARY:BLOQUEIO CAD3 em [ Auditório B101/102 do CAD 3 Auditório B106 do
  CAD3 Auditório B107 do CAD3]
DTSTART;TZID=America/Sao_Paulo;VALUE=DATE-TIME:20230306T070000
DTEND;TZID=America/Sao_Paulo;VALUE=DATE-TIME:20230308T230000
DTSTAMP;VALUE=DATE-TIME:20260421T145901Z
UID:c4544a9878e44e9bbb38c7f8ce3fd346@150.164.76.86:8080
CREATED;VALUE=DATE-TIME:20230303T183027Z
DESCRIPTION:<p>Para realocação de aulas durante o DCCWeek</p>
LAST-MODIFIED;VALUE=DATE-TIME:20230303T183103Z
URL:http://150.164.76.86:8080/cac/agenda/18415793835046736251
END:VEVENT
BEGIN:VTIMEZONE
TZID:America/Sao_Paulo
X-LIC-LOCATION:America/Sao_Paulo
BEGIN:STANDARD
DTSTART;VALUE=DATE-TIME:20230225T230000
TZNAME:BRT
TZOFFSETFROM:-0200
TZOFFSETTO:-0300
END:STANDARD
END:VTIMEZONE
END:VCALENDAR
