BEGIN:VCALENDAR
VERSION:2.0
PRODID:-//Plone.org//NONSGML plone.app.event//EN
X-WR-TIMEZONE:America/Sao_Paulo
BEGIN:VEVENT
SUMMARY:Reunião com Diretores e Coordenadores de Cursos de Graduação. e
 m [ Auditorio da Reitoria]
DTSTART;TZID=America/Sao_Paulo;VALUE=DATE-TIME:20240403T093000
DTEND;TZID=America/Sao_Paulo;VALUE=DATE-TIME:20240403T113000
DTSTAMP;VALUE=DATE-TIME:20260420T031401Z
UID:95fb72c7a3634519aae84d04313cd436@150.164.76.86:8080
CREATED;VALUE=DATE-TIME:20240312T123445Z
DESCRIPTION:<p>Mesa para três pessoas( Reitora e Pró-Reitores de Gradua
 ção\, microfone de mesa\, projeção e microfone avulso com pedestal)</p
 >
LAST-MODIFIED;VALUE=DATE-TIME:20240312T140252Z
URL:http://150.164.76.86:8080/cac/agenda/18411043248037075620
END:VEVENT
BEGIN:VTIMEZONE
TZID:America/Sao_Paulo
X-LIC-LOCATION:America/Sao_Paulo
BEGIN:STANDARD
DTSTART;VALUE=DATE-TIME:20240217T230000
TZNAME:BRT
TZOFFSETFROM:-0200
TZOFFSETTO:-0300
END:STANDARD
END:VTIMEZONE
END:VCALENDAR
