BEGIN:VCALENDAR
VERSION:2.0
PRODID:-//Plone.org//NONSGML plone.app.event//EN
X-WR-TIMEZONE:America/Sao_Paulo
BEGIN:VEVENT
SUMMARY:CAPACIDADE EXCEDIDA em [ Auditorio A104 do Cad 2 Auditorio Nobre d
 o CAD 1 Auditório B302 do CAD 3]
DTSTART;TZID=America/Sao_Paulo;VALUE=DATE-TIME:20200429T010000
DTEND;TZID=America/Sao_Paulo;VALUE=DATE-TIME:20200429T230000
DTSTAMP;VALUE=DATE-TIME:20260425T000620Z
UID:f56f5c6f723c40f58f0d3b4f2b4f42c7@150.164.76.86:8080
CREATED;VALUE=DATE-TIME:20200114T180714Z
DESCRIPTION:<p><span style="text-align:center\; " data-sheets-value="{&quo
 t\;1&quot\;:2\,&quot\;2&quot\;:&quot\;Workshop Bioinformática\\nCAD 3 - B
 302\\n09:00 às 17:00&quot\;}" data-sheets-userformat="{&quot\;2&quot\;:30
 71\,&quot\;3&quot\;:{&quot\;1&quot\;:0}\,&quot\;4&quot\;:[null\,2\,1677721
 5]\,&quot\;5&quot\;:{&quot\;1&quot\;:[{&quot\;1&quot\;:2\,&quot\;2&quot\;:
 0\,&quot\;5&quot\;:[null\,2\,0]}\,{&quot\;1&quot\;:0\,&quot\;2&quot\;:0\,&
 quot\;3&quot\;:3}\,{&quot\;1&quot\;:1\,&quot\;2&quot\;:0\,&quot\;4&quot\;:
 1}]}\,&quot\;6&quot\;:{&quot\;1&quot\;:[{&quot\;1&quot\;:2\,&quot\;2&quot\
 ;:0\,&quot\;5&quot\;:[null\,2\,0]}\,{&quot\;1&quot\;:0\,&quot\;2&quot\;:0\
 ,&quot\;3&quot\;:3}\,{&quot\;1&quot\;:1\,&quot\;2&quot\;:0\,&quot\;4&quot\
 ;:1}]}\,&quot\;7&quot\;:{&quot\;1&quot\;:[{&quot\;1&quot\;:2\,&quot\;2&quo
 t\;:0\,&quot\;5&quot\;:[null\,2\,0]}\,{&quot\;1&quot\;:0\,&quot\;2&quot\;:
 0\,&quot\;3&quot\;:3}\,{&quot\;1&quot\;:1\,&quot\;2&quot\;:0\,&quot\;4&quo
 t\;:1}]}\,&quot\;8&quot\;:{&quot\;1&quot\;:[{&quot\;1&quot\;:2\,&quot\;2&q
 uot\;:0\,&quot\;5&quot\;:[null\,2\,0]}\,{&quot\;1&quot\;:0\,&quot\;2&quot\
 ;:0\,&quot\;3&quot\;:3}\,{&quot\;1&quot\;:1\,&quot\;2&quot\;:0\,&quot\;4&q
 uot\;:1}]}\,&quot\;9&quot\;:1\,&quot\;10&quot\;:1\,&quot\;11&quot\;:4\,&qu
 ot\;12&quot\;:0\,&quot\;14&quot\;:[null\,2\,0]}" data-sheets-note="Aprovad
 o em deliberação 14/01/2020">CAPACIDADE EXCEDIDA<br /></span></p>
LAST-MODIFIED;VALUE=DATE-TIME:20230111T201110Z
URL:http://150.164.76.86:8080/cac/agenda/18405176884403226842
END:VEVENT
BEGIN:VTIMEZONE
TZID:America/Sao_Paulo
X-LIC-LOCATION:America/Sao_Paulo
BEGIN:STANDARD
DTSTART;VALUE=DATE-TIME:20200215T230000
TZNAME:BRT
TZOFFSETFROM:-0200
TZOFFSETTO:-0300
END:STANDARD
END:VTIMEZONE
END:VCALENDAR
