BEGIN:VCALENDAR
VERSION:2.0
PRODID:-//Plone.org//NONSGML plone.app.event//EN
X-WR-TIMEZONE:America/Sao_Paulo
BEGIN:VEVENT
SUMMARY:BANCA DE HETEROIDENTIFICAÇÃO em [ Auditório B106 do CAD3 Audit
 ório B107 do CAD3]
DTSTART;TZID=America/Sao_Paulo;VALUE=DATE-TIME:20241220T093000
DTEND;TZID=America/Sao_Paulo;VALUE=DATE-TIME:20241220T103000
DTSTAMP;VALUE=DATE-TIME:20260419T164703Z
UID:51554e590b7b448e94d8886ee9241f40@150.164.76.86:8080
CREATED;VALUE=DATE-TIME:20241213T181549Z
DESCRIPTION:<p>PROCESSO DOCENTE - MEDICINA E FAFICH</p>
LAST-MODIFIED;VALUE=DATE-TIME:20241213T192345Z
URL:http://150.164.76.86:8080/cac/agenda/18401279681275041538
END:VEVENT
BEGIN:VTIMEZONE
TZID:America/Sao_Paulo
X-LIC-LOCATION:America/Sao_Paulo
BEGIN:DAYLIGHT
DTSTART;VALUE=DATE-TIME:20241020T010000
TZNAME:BRST
TZOFFSETFROM:-0300
TZOFFSETTO:-0200
END:DAYLIGHT
END:VTIMEZONE
END:VCALENDAR
