BEGIN:VCALENDAR
VERSION:2.0
PRODID:-//Plone.org//NONSGML plone.app.event//EN
X-WR-TIMEZONE:America/Sao_Paulo
BEGIN:VEVENT
SUMMARY:Palestra prof Terry em [ Outros espacos]
DTSTART;TZID=America/Sao_Paulo;VALUE=DATE-TIME:20230411T150000
DTEND;TZID=America/Sao_Paulo;VALUE=DATE-TIME:20230411T170000
DTSTAMP;VALUE=DATE-TIME:20260421T150024Z
UID:7423316114d54d34849bf5c48cf71c47@150.164.76.86:8080
CREATED;VALUE=DATE-TIME:20230410T113540Z
DESCRIPTION:<p>Transmissão da palestra para o canal youtube da EEFFTO\, c
 om atendimento NAV.</p>
LAST-MODIFIED;VALUE=DATE-TIME:20230410T113550Z
URL:http://150.164.76.86:8080/cac/agenda/18395297061369466753
END:VEVENT
BEGIN:VTIMEZONE
TZID:America/Sao_Paulo
X-LIC-LOCATION:America/Sao_Paulo
BEGIN:STANDARD
DTSTART;VALUE=DATE-TIME:20230225T230000
TZNAME:BRT
TZOFFSETFROM:-0200
TZOFFSETTO:-0300
END:STANDARD
END:VTIMEZONE
END:VCALENDAR
