BEGIN:VCALENDAR
VERSION:2.0
PRODID:-//Plone.org//NONSGML plone.app.event//EN
X-WR-TIMEZONE:America/Sao_Paulo
BEGIN:VEVENT
SUMMARY:Reunião de Equipe da Reitora em [ Outros espacos]
DTSTART;TZID=America/Sao_Paulo;VALUE=DATE-TIME:20230414T093000
DTEND;TZID=America/Sao_Paulo;VALUE=DATE-TIME:20230414T123000
DTSTAMP;VALUE=DATE-TIME:20260421T150427Z
UID:cef8b22592cc4800968b5c44d5e7514e@150.164.76.86:8080
CREATED;VALUE=DATE-TIME:20230317T180444Z
DESCRIPTION:<p>Reunião de equipe da Reitora</p>
LAST-MODIFIED;VALUE=DATE-TIME:20230317T180510Z
URL:http://150.164.76.86:8080/cac/agenda/18394053520218023621
END:VEVENT
BEGIN:VTIMEZONE
TZID:America/Sao_Paulo
X-LIC-LOCATION:America/Sao_Paulo
BEGIN:STANDARD
DTSTART;VALUE=DATE-TIME:20230225T230000
TZNAME:BRT
TZOFFSETFROM:-0200
TZOFFSETTO:-0300
END:STANDARD
END:VTIMEZONE
END:VCALENDAR
