BEGIN:VCALENDAR
VERSION:2.0
PRODID:-//Plone.org//NONSGML plone.app.event//EN
X-WR-TIMEZONE:America/Sao_Paulo
BEGIN:VEVENT
SUMMARY:Transmissão apuração consultas centralizadas 2023/2 em [ Outros
  espacos]
DTSTART;TZID=America/Sao_Paulo;VALUE=DATE-TIME:20231124T170000
DTEND;TZID=America/Sao_Paulo;VALUE=DATE-TIME:20231124T180000
DTSTAMP;VALUE=DATE-TIME:20260420T190647Z
UID:1b6685fdaeb7415d87f6cc3576f2f3be@150.164.76.86:8080
CREATED;VALUE=DATE-TIME:20230911T154350Z
DESCRIPTION:<p>Transmissão da apuração das consultas centralizadas - se
 gundo semestre de 2023.</p>
LAST-MODIFIED;VALUE=DATE-TIME:20230911T154812Z
URL:http://150.164.76.86:8080/cac/agenda/18386463768174107732
END:VEVENT
BEGIN:VTIMEZONE
TZID:America/Sao_Paulo
X-LIC-LOCATION:America/Sao_Paulo
BEGIN:DAYLIGHT
DTSTART;VALUE=DATE-TIME:20231015T010000
TZNAME:BRST
TZOFFSETFROM:-0300
TZOFFSETTO:-0200
END:DAYLIGHT
END:VTIMEZONE
END:VCALENDAR
