BEGIN:VCALENDAR
VERSION:2.0
PRODID:-//Plone.org//NONSGML plone.app.event//EN
X-WR-TIMEZONE:America/Sao_Paulo
BEGIN:VEVENT
SUMMARY:BANCA DE HETEROIDENTIFICAÇÃO em [ Auditório B101/102 do CAD 3 A
 uditório B106 do CAD3 - s/ ar condic Auditório B107 do CAD3]
DTSTART;TZID=America/Sao_Paulo;VALUE=DATE-TIME:20240205T070000
DTEND;TZID=America/Sao_Paulo;VALUE=DATE-TIME:20240209T180000
DTSTAMP;VALUE=DATE-TIME:20260420T080832Z
UID:675da0d581cc450a9a37feb5c0d4f296@150.164.76.86:8080
CREATED;VALUE=DATE-TIME:20231218T171431Z
DESCRIPTION:<p><span>Bancas de Heteroidentificação para reserva de vagas
  racial nos processos seletivos dos cursos ofertados pela UFMG</span></p>
LAST-MODIFIED;VALUE=DATE-TIME:20231218T173245Z
URL:http://150.164.76.86:8080/cac/agenda/18383729143361692889
END:VEVENT
BEGIN:VTIMEZONE
TZID:America/Sao_Paulo
X-LIC-LOCATION:America/Sao_Paulo
BEGIN:DAYLIGHT
DTSTART;VALUE=DATE-TIME:20231015T010000
TZNAME:BRST
TZOFFSETFROM:-0300
TZOFFSETTO:-0200
END:DAYLIGHT
END:VTIMEZONE
END:VCALENDAR
