BEGIN:VCALENDAR
VERSION:2.0
PRODID:-//Plone.org//NONSGML plone.app.event//EN
X-WR-TIMEZONE:America/Sao_Paulo
BEGIN:VEVENT
SUMMARY:Feriado Municipal Imaculada Conceição em [ Saguao da Reitoria Au
 ditorio da Reitoria Gramado da Reitoria Entorno da Praca de Servicos Audit
 orio Nobre do CAD 1 Auditorio 1A do CAD 1 Auditorio 2A do CAD 1 Auditorio 
 A102 do Cad 2 Auditorio A104 do Cad 2 Arena da praça de serviços Auditó
 rio B302 do CAD 3 Auditório B101/102 do CAD 3 Auditório B301 do CAD 3]
DTSTART;TZID=America/Sao_Paulo;VALUE=DATE-TIME:20221208T010000
DTEND;TZID=America/Sao_Paulo;VALUE=DATE-TIME:20221208T230000
DTSTAMP;VALUE=DATE-TIME:20260421T205342Z
UID:208c19b4b68842e880a62a04a520148e@150.164.76.86:8080
CREATED;VALUE=DATE-TIME:20211122T152627Z
DESCRIPTION:<p>.</p>
LAST-MODIFIED;VALUE=DATE-TIME:20230111T201053Z
URL:http://150.164.76.86:8080/cac/agenda/18379172148648992405
END:VEVENT
BEGIN:VTIMEZONE
TZID:America/Sao_Paulo
X-LIC-LOCATION:America/Sao_Paulo
BEGIN:DAYLIGHT
DTSTART;VALUE=DATE-TIME:20221016T010000
TZNAME:BRST
TZOFFSETFROM:-0300
TZOFFSETTO:-0200
END:DAYLIGHT
END:VTIMEZONE
END:VCALENDAR
