BEGIN:VCALENDAR
VERSION:2.0
PRODID:-//Plone.org//NONSGML plone.app.event//EN
X-WR-TIMEZONE:America/Sao_Paulo
BEGIN:VEVENT
SUMMARY:PicadeRRÓ em [ Arena da praça de serviços]
DTSTART;TZID=America/Sao_Paulo;VALUE=DATE-TIME:20231101T173000
DTEND;TZID=America/Sao_Paulo;VALUE=DATE-TIME:20231101T190000
DTSTAMP;VALUE=DATE-TIME:20260420T114444Z
UID:dde8e863ddc646a5a0c7ea91c4659e5f@150.164.76.86:8080
CREATED;VALUE=DATE-TIME:20230706T144911Z
DESCRIPTION:Evento de caráter cultural com objetivo de divulgação da cu
 ltura do forró\, promovendo forró gratuitamente para toda a comunidade d
 a UFMG. \nUtilizamos nossos próprios equipamentos sendo eles: caixa de so
 m\, microfone e computadores.
LAST-MODIFIED;VALUE=DATE-TIME:20230706T151921Z
URL:http://150.164.76.86:8080/cac/agenda/18373206643348996594
END:VEVENT
BEGIN:VTIMEZONE
TZID:America/Sao_Paulo
X-LIC-LOCATION:America/Sao_Paulo
BEGIN:DAYLIGHT
DTSTART;VALUE=DATE-TIME:20231015T010000
TZNAME:BRST
TZOFFSETFROM:-0300
TZOFFSETTO:-0200
END:DAYLIGHT
END:VTIMEZONE
END:VCALENDAR
