BEGIN:VCALENDAR
VERSION:2.0
PRODID:-//Plone.org//NONSGML plone.app.event//EN
X-WR-TIMEZONE:America/Sao_Paulo
BEGIN:VEVENT
SUMMARY:Posse da diretoria do ICB em [ Outros espacos]
DTSTART;TZID=America/Sao_Paulo;VALUE=DATE-TIME:20220601T100000
DTEND;TZID=America/Sao_Paulo;VALUE=DATE-TIME:20220601T120000
DTSTAMP;VALUE=DATE-TIME:20260422T050922Z
UID:544e1bc267f943f69f787e4e34a819bf@150.164.76.86:8080
CREATED;VALUE=DATE-TIME:20220530T112213Z
DESCRIPTION:<p>Posse com auxílio da CAC. </p>
LAST-MODIFIED;VALUE=DATE-TIME:20220530T112317Z
URL:http://150.164.76.86:8080/cac/agenda/18369117407617218919
END:VEVENT
BEGIN:VTIMEZONE
TZID:America/Sao_Paulo
X-LIC-LOCATION:America/Sao_Paulo
BEGIN:STANDARD
DTSTART;VALUE=DATE-TIME:20220219T230000
TZNAME:BRT
TZOFFSETFROM:-0200
TZOFFSETTO:-0300
END:STANDARD
END:VTIMEZONE
END:VCALENDAR
