BEGIN:VCALENDAR
VERSION:2.0
PRODID:-//Plone.org//NONSGML plone.app.event//EN
X-WR-TIMEZONE:America/Sao_Paulo
BEGIN:VEVENT
SUMMARY:Feriado Proclamação da República em [ Saguao da Reitoria Audito
 rio da Reitoria Gramado da Reitoria Entorno da Praca de Servicos Auditorio
  Nobre do CAD 1 Auditorio 1A do CAD 1 Auditorio 2A do CAD 1 Auditorio A102
  do Cad 2 Auditorio A104 do Cad 2 Arena da praça de serviços Auditório 
 B302 do CAD 3 Auditório B101/102 do CAD 3 Auditório B301 do CAD 3]
DTSTART;TZID=America/Sao_Paulo;VALUE=DATE-TIME:20221115T010000
DTEND;TZID=America/Sao_Paulo;VALUE=DATE-TIME:20221115T230000
DTSTAMP;VALUE=DATE-TIME:20260421T221850Z
UID:ca2b813859864a9a9b60bd9f5e351f50@150.164.76.86:8080
CREATED;VALUE=DATE-TIME:20211122T150148Z
DESCRIPTION:<p>.</p>
LAST-MODIFIED;VALUE=DATE-TIME:20230111T201052Z
URL:http://150.164.76.86:8080/cac/agenda/18354977865440254195
END:VEVENT
BEGIN:VTIMEZONE
TZID:America/Sao_Paulo
X-LIC-LOCATION:America/Sao_Paulo
BEGIN:DAYLIGHT
DTSTART;VALUE=DATE-TIME:20221016T010000
TZNAME:BRST
TZOFFSETFROM:-0300
TZOFFSETTO:-0200
END:DAYLIGHT
END:VTIMEZONE
END:VCALENDAR
