BEGIN:VCALENDAR
VERSION:2.0
PRODID:-//Plone.org//NONSGML plone.app.event//EN
X-WR-TIMEZONE:America/Sao_Paulo
BEGIN:VEVENT
SUMMARY:Projeto Recitais em [ Outros espacos]
DTSTART;TZID=America/Sao_Paulo;VALUE=DATE-TIME:20240912T170000
DTEND;TZID=America/Sao_Paulo;VALUE=DATE-TIME:20240912T190000
DTSTAMP;VALUE=DATE-TIME:20260419T205723Z
UID:22a6add025ef4805a614c13998317c1c@150.164.76.86:8080
CREATED;VALUE=DATE-TIME:20240202T131916Z
DESCRIPTION:Evento Musical - Apresentação Artista: Mamour Bá e acompanh
 amento\nShow: "Prazer de Cantar"\nLocal e Horário: Auditório - 19 horas\
 n\nCanto\, piano e bateria \n01 microfone para bumbo bateria\; 02 microfon
 es para tom\; 01 microfone para caixa\; \n01 microfone over para pratos\; 
 02 microfones over para voz\; \n01 microfone guia/voz (auricular)\; Efeito
  reverber\; 01 monitor para teclado\; 06 microfones para voz\n\nSolicitaç
 ão a CAC:\n\na) Técnico de som para realizar o evento (17:30 às 21:30 h
 oras aproximadamente)\;\nb) empréstimo de 03 microfones SM58 para voz e 0
 1 microfone auricular\;\n\nOBSERVAÇÃO: este show estava marcado para o d
 ia 09/05/2024 (já solicitado apoio da CAC)\, mudamos para o dia 12/09/202
 4. \n                            (a mudança ocorreu porque\, além do ped
 ido artista a CAC dificilmente poderia atender o evento no dia 09/05 devid
 os aos outros eventos agendados)
LAST-MODIFIED;VALUE=DATE-TIME:20240820T204831Z
URL:http://150.164.76.86:8080/cac/agenda/18349752274528925156
END:VEVENT
BEGIN:VTIMEZONE
TZID:America/Sao_Paulo
X-LIC-LOCATION:America/Sao_Paulo
BEGIN:STANDARD
DTSTART;VALUE=DATE-TIME:20240217T230000
TZNAME:BRT
TZOFFSETFROM:-0200
TZOFFSETTO:-0300
END:STANDARD
END:VTIMEZONE
END:VCALENDAR
