BEGIN:VCALENDAR
VERSION:2.0
PRODID:-//Plone.org//NONSGML plone.app.event//EN
X-WR-TIMEZONE:America/Sao_Paulo
BEGIN:VEVENT
SUMMARY:Feriado: Natal em [ Auditorio da Reitoria Saguao da Reitoria Grama
 do da Reitoria Arena da praça de serviços Entorno da Praca de Servicos A
 uditorio Nobre do CAD 1 Auditorio 1A do CAD 1 Auditorio 2A do CAD 1 Audito
 rio A102 do Cad 2 Auditorio A104 do Cad 2 Auditório B101/102 do CAD 3 Aud
 itório B106 do CAD3 Auditório B107 do CAD3 Auditório B301 do CAD 3 Audi
 tório B302 do CAD 3 Auditório B306 do CAD3 Outros espacos]
DTSTART;TZID=America/Sao_Paulo;VALUE=DATE-TIME:20241225T080000
DTEND;TZID=America/Sao_Paulo;VALUE=DATE-TIME:20241225T220000
DTSTAMP;VALUE=DATE-TIME:20260419T164238Z
UID:1f69caee5fa64a77a92f8af525b43a3b@150.164.76.86:8080
CREATED;VALUE=DATE-TIME:20231106T135324Z
DESCRIPTION:<p>Feriado</p>
LAST-MODIFIED;VALUE=DATE-TIME:20231106T135412Z
URL:http://150.164.76.86:8080/cac/agenda/1834574913802236822
END:VEVENT
BEGIN:VTIMEZONE
TZID:America/Sao_Paulo
X-LIC-LOCATION:America/Sao_Paulo
BEGIN:DAYLIGHT
DTSTART;VALUE=DATE-TIME:20241020T010000
TZNAME:BRST
TZOFFSETFROM:-0300
TZOFFSETTO:-0200
END:DAYLIGHT
END:VTIMEZONE
END:VCALENDAR
