BEGIN:VCALENDAR
VERSION:2.0
PRODID:-//Plone.org//NONSGML plone.app.event//EN
X-WR-TIMEZONE:America/Sao_Paulo
BEGIN:VEVENT
SUMMARY:Montagem IEAT em [ Auditorio Nobre do CAD 1]
DTSTART;TZID=America/Sao_Paulo;VALUE=DATE-TIME:20221104T080000
DTEND;TZID=America/Sao_Paulo;VALUE=DATE-TIME:20221104T180000
DTSTAMP;VALUE=DATE-TIME:20260421T204519Z
UID:21d51280e3cf4e58bb7f14439f6ec267@150.164.76.86:8080
CREATED;VALUE=DATE-TIME:20221014T115832Z
DESCRIPTION:<p>Montagem IEAT - extensão do palco. </p>
LAST-MODIFIED;VALUE=DATE-TIME:20221014T115848Z
URL:http://150.164.76.86:8080/cac/agenda/18333267967337126641
END:VEVENT
BEGIN:VTIMEZONE
TZID:America/Sao_Paulo
X-LIC-LOCATION:America/Sao_Paulo
BEGIN:DAYLIGHT
DTSTART;VALUE=DATE-TIME:20221016T010000
TZNAME:BRST
TZOFFSETFROM:-0300
TZOFFSETTO:-0200
END:DAYLIGHT
END:VTIMEZONE
END:VCALENDAR
