BEGIN:VCALENDAR
VERSION:2.0
PRODID:-//Plone.org//NONSGML plone.app.event//EN
X-WR-TIMEZONE:America/Sao_Paulo
BEGIN:VEVENT
SUMMARY:Reunião Eng200 e CAC em [ Auditório B106 do CAD3]
DTSTART;TZID=America/Sao_Paulo;VALUE=DATE-TIME:20250407T140000
DTEND;TZID=America/Sao_Paulo;VALUE=DATE-TIME:20250407T160000
DTSTAMP;VALUE=DATE-TIME:20260419T104125Z
UID:773adbdf91414adc9151ece3476d6841@150.164.76.86:8080
CREATED;VALUE=DATE-TIME:20250404T163715Z
DESCRIPTION:<p>Reunião projeto Eng200</p>
LAST-MODIFIED;VALUE=DATE-TIME:20250404T163728Z
URL:http://150.164.76.86:8080/cac/agenda/18329004744889097907
END:VEVENT
BEGIN:VTIMEZONE
TZID:America/Sao_Paulo
X-LIC-LOCATION:America/Sao_Paulo
BEGIN:STANDARD
DTSTART;VALUE=DATE-TIME:20250215T230000
TZNAME:BRT
TZOFFSETFROM:-0200
TZOFFSETTO:-0300
END:STANDARD
END:VTIMEZONE
END:VCALENDAR
