BEGIN:VCALENDAR
VERSION:2.0
PRODID:-//Plone.org//NONSGML plone.app.event//EN
X-WR-TIMEZONE:America/Sao_Paulo
BEGIN:VEVENT
SUMMARY:Reunião com Coordenadores de Cursos de Graduação em [ Auditorio
  da Reitoria]
DTSTART;TZID=America/Sao_Paulo;VALUE=DATE-TIME:20240503T140000
DTEND;TZID=America/Sao_Paulo;VALUE=DATE-TIME:20240503T160000
DTSTAMP;VALUE=DATE-TIME:20260420T014215Z
UID:2b48f1b8517a4c9788a18eacb16ec2a2@150.164.76.86:8080
CREATED;VALUE=DATE-TIME:20240423T163845Z
DESCRIPTION:<p>Microfone de mesa\, projeção\, microfone avulso com pedes
 tal.</p>
LAST-MODIFIED;VALUE=DATE-TIME:20240423T194005Z
URL:http://150.164.76.86:8080/cac/agenda/18328247001355643524
END:VEVENT
BEGIN:VTIMEZONE
TZID:America/Sao_Paulo
X-LIC-LOCATION:America/Sao_Paulo
BEGIN:STANDARD
DTSTART;VALUE=DATE-TIME:20240217T230000
TZNAME:BRT
TZOFFSETFROM:-0200
TZOFFSETTO:-0300
END:STANDARD
END:VTIMEZONE
END:VCALENDAR
