BEGIN:VCALENDAR
VERSION:2.0
PRODID:-//Plone.org//NONSGML plone.app.event//EN
X-WR-TIMEZONE:America/Sao_Paulo
BEGIN:VEVENT
SUMMARY:CABBIO - BRA10: FERRAMENTAS DE BIOINFORMÁTICA APLICADAS AO ESTUDO
  DA INTERAÇÃO PATÓGENO- HOSPEDEIRO em [ Auditorio Nobre do CAD 1]
DTSTART;TZID=America/Sao_Paulo;VALUE=DATE-TIME:20221205T080000
DTEND;TZID=America/Sao_Paulo;VALUE=DATE-TIME:20221207T170000
DTSTAMP;VALUE=DATE-TIME:20260421T192233Z
UID:9cc22f55ba81470bb54e438318759baf@150.164.76.86:8080
CREATED;VALUE=DATE-TIME:20220624T213756Z
DESCRIPTION:<p>Retroprojetor\, microfones e telão para projetar os slides
  dos palestrantes.</p>
LAST-MODIFIED;VALUE=DATE-TIME:20221125T160326Z
URL:http://150.164.76.86:8080/cac/agenda/18317124422338717239
END:VEVENT
BEGIN:VTIMEZONE
TZID:America/Sao_Paulo
X-LIC-LOCATION:America/Sao_Paulo
BEGIN:DAYLIGHT
DTSTART;VALUE=DATE-TIME:20221016T010000
TZNAME:BRST
TZOFFSETFROM:-0300
TZOFFSETTO:-0200
END:DAYLIGHT
END:VTIMEZONE
END:VCALENDAR
