BEGIN:VCALENDAR
VERSION:2.0
PRODID:-//Plone.org//NONSGML plone.app.event//EN
X-WR-TIMEZONE:America/Sao_Paulo
BEGIN:VEVENT
SUMMARY:Evento Soccer Data Analytics em [ Auditório B101/102 do CAD 3]
DTSTART;TZID=America/Sao_Paulo;VALUE=DATE-TIME:20220826T130000
DTEND;TZID=America/Sao_Paulo;VALUE=DATE-TIME:20220826T200000
DTSTAMP;VALUE=DATE-TIME:20260422T024925Z
UID:eb0b6f3c561e4936a05a051be6559d26@150.164.76.86:8080
CREATED;VALUE=DATE-TIME:20220713T195730Z
DESCRIPTION:<p>Soccer Data Analytics. Esse evento será coordenado pelos p
 rofessores Adriano César Machado e Wagner Meira Júnior.</p>
LAST-MODIFIED;VALUE=DATE-TIME:20230111T201114Z
URL:http://150.164.76.86:8080/cac/agenda/18274447311554383043
END:VEVENT
BEGIN:VTIMEZONE
TZID:America/Sao_Paulo
X-LIC-LOCATION:America/Sao_Paulo
BEGIN:STANDARD
DTSTART;VALUE=DATE-TIME:20220219T230000
TZNAME:BRT
TZOFFSETFROM:-0200
TZOFFSETTO:-0300
END:STANDARD
END:VTIMEZONE
END:VCALENDAR
