BEGIN:VCALENDAR
VERSION:2.0
PRODID:-//Plone.org//NONSGML plone.app.event//EN
X-WR-TIMEZONE:America/Sao_Paulo
BEGIN:VEVENT
SUMMARY:Leitura Pública do Edital de Mobilidade Internacional DRI/UFMG em
  [ Auditorio Nobre do CAD 1]
DTSTART;TZID=America/Sao_Paulo;VALUE=DATE-TIME:20220714T173000
DTEND;TZID=America/Sao_Paulo;VALUE=DATE-TIME:20220714T183000
DTSTAMP;VALUE=DATE-TIME:20260422T044617Z
UID:06482ed1bb6a4340bafd221768d4b2d0@150.164.76.86:8080
CREATED;VALUE=DATE-TIME:20220708T183605Z
DESCRIPTION:Leitura pública do Edital de Seleção para os programas de m
 obilidade da DRI para a comunidade discente da graduação.\n\nEquipamento
 s:\n\nMicrofone 2 (se possível um sem fio para perguntas do auditório)\n
 Projetor e computador\nGravação e transmissão (ver sobre disponibilidad
 e)\n\n*Ana Paula\, a gente prefere que a gravação seja no segundo dia do
  evento\, não há necesidade de gravar os dois dias\, apenas um. Abraço 
 e obrigada!
LAST-MODIFIED;VALUE=DATE-TIME:20220711T120414Z
URL:http://150.164.76.86:8080/cac/agenda/18269122604267758716
END:VEVENT
BEGIN:VTIMEZONE
TZID:America/Sao_Paulo
X-LIC-LOCATION:America/Sao_Paulo
BEGIN:STANDARD
DTSTART;VALUE=DATE-TIME:20220219T230000
TZNAME:BRT
TZOFFSETFROM:-0200
TZOFFSETTO:-0300
END:STANDARD
END:VTIMEZONE
END:VCALENDAR
