BEGIN:VCALENDAR
VERSION:2.0
PRODID:-//Plone.org//NONSGML plone.app.event//EN
X-WR-TIMEZONE:America/Sao_Paulo
BEGIN:VEVENT
SUMMARY:X Encontro de Pesquisa em História - Fragmentos da memória: entr
 e a Efeméride e o Esquecimento em [ Auditorio Nobre do CAD 1]
DTSTART;TZID=America/Sao_Paulo;VALUE=DATE-TIME:20220524T183000
DTEND;TZID=America/Sao_Paulo;VALUE=DATE-TIME:20220524T213000
DTSTAMP;VALUE=DATE-TIME:20260422T081523Z
UID:39a102d6761d4c4194aeba4223a70651@150.164.76.86:8080
CREATED;VALUE=DATE-TIME:20220425T145045Z
DESCRIPTION:Solicitamos apenas estrutura de som para realização da mesa 
 temática (caixa de som\, microfone e projetor). A  mesa contará com nome
 s renomados da disciplina de História\, como Fernando Nicolazzi\, Mateus 
 Pereira e Arthur Lima de Ávila.
LAST-MODIFIED;VALUE=DATE-TIME:20220516T132754Z
URL:http://150.164.76.86:8080/cac/agenda/18261416740788372948
END:VEVENT
BEGIN:VTIMEZONE
TZID:America/Sao_Paulo
X-LIC-LOCATION:America/Sao_Paulo
BEGIN:STANDARD
DTSTART;VALUE=DATE-TIME:20220219T230000
TZNAME:BRT
TZOFFSETFROM:-0200
TZOFFSETTO:-0300
END:STANDARD
END:VTIMEZONE
END:VCALENDAR
