BEGIN:VCALENDAR
VERSION:2.0
PRODID:-//Plone.org//NONSGML plone.app.event//EN
X-WR-TIMEZONE:America/Sao_Paulo
BEGIN:VEVENT
SUMMARY:Semana do Servidor em [ Auditorio da Reitoria Arena da praça de s
 erviços]
DTSTART;TZID=America/Sao_Paulo;VALUE=DATE-TIME:20241014T080000
DTEND;TZID=America/Sao_Paulo;VALUE=DATE-TIME:20241016T180000
DTSTAMP;VALUE=DATE-TIME:20260419T193238Z
UID:630293c8d5a6419caa83454ef23c8881@150.164.76.86:8080
CREATED;VALUE=DATE-TIME:20231128T183444Z
DESCRIPTION:<p>Data definida em reunião 29/11/23</p>
LAST-MODIFIED;VALUE=DATE-TIME:20240923T135633Z
URL:http://150.164.76.86:8080/cac/agenda/18247577906322102493
END:VEVENT
BEGIN:VTIMEZONE
TZID:America/Sao_Paulo
X-LIC-LOCATION:America/Sao_Paulo
BEGIN:STANDARD
DTSTART;VALUE=DATE-TIME:20240217T230000
TZNAME:BRT
TZOFFSETFROM:-0200
TZOFFSETTO:-0300
END:STANDARD
END:VTIMEZONE
END:VCALENDAR
