BEGIN:VCALENDAR
VERSION:2.0
PRODID:-//Plone.org//NONSGML plone.app.event//EN
X-WR-TIMEZONE:America/Sao_Paulo
BEGIN:VEVENT
SUMMARY:SEDIMENTAÇÃO: por uma arqueologia da palavra e da imagem XIII Co
 ngresso Internacional IAWIS/AIERTI em [ Auditorio A102 do Cad 2]
DTSTART;TZID=America/Sao_Paulo;VALUE=DATE-TIME:20230828T070000
DTEND;TZID=America/Sao_Paulo;VALUE=DATE-TIME:20230901T200000
DTSTAMP;VALUE=DATE-TIME:20260421T062523Z
UID:5e5181458c8e43aab8a5d4f478a13876@150.164.76.86:8080
CREATED;VALUE=DATE-TIME:20221027T200950Z
DESCRIPTION:<p>O XIII Congresso Internacional IAWIS/AIERTI tem por foco o 
 conceito de Sedimentação\, articulado a reflexões sobre o Texto e a Ima
 gem. Esse termo\, em seu sentido literal e metafórico\, pretende abranger
  questões históricas\, teóricas e temáticas que atravessam as produç
 ões culturais\, literárias e artísticas\, considerando as articulaçõe
 s entre a palavra e a imagem. A IAWIS/AIERTI é uma Associação Internaci
 onal – "International Association of Word and Image Studies" –\, da qu
 al fazem parte os organizadores do evento no Brasil\, que acolherá essa 1
 3º edição do Congresso. O congresso será realizado durante 5 dias\, co
 m atividades pela manhã e à tarde. Além das palestras com professores/p
 esquisadores convidados\, o evento acolherá aproximadamente 30 simpósios
  temáticos e proporá uma programação cultural. Pretende-se realizar o 
 evento na modalidade híbrida\, embora nosso propósito seja encorajar\, o
  máximo possível\, a realização do evento na modalidade presencial. Po
 rtanto\, necessitamos de câmera para transmissão do evento\, microfone\,
  computador e operadores de áudio e vídeo.</p>
LAST-MODIFIED;VALUE=DATE-TIME:20230822T195214Z
URL:http://150.164.76.86:8080/cac/agenda/18241888054140346320
END:VEVENT
BEGIN:VTIMEZONE
TZID:America/Sao_Paulo
X-LIC-LOCATION:America/Sao_Paulo
BEGIN:STANDARD
DTSTART;VALUE=DATE-TIME:20230225T230000
TZNAME:BRT
TZOFFSETFROM:-0200
TZOFFSETTO:-0300
END:STANDARD
END:VTIMEZONE
END:VCALENDAR
