BEGIN:VCALENDAR
VERSION:2.0
PRODID:-//Plone.org//NONSGML plone.app.event//EN
X-WR-TIMEZONE:America/Sao_Paulo
BEGIN:VEVENT
SUMMARY:Feriado Municipal em Belo Horizonte: Assunção de Nossa Senhora e
 m [ Auditorio da Reitoria Saguao da Reitoria Gramado da Reitoria Arena da 
 praça de serviços Entorno da Praca de Servicos Auditorio Nobre do CAD 1 
 Auditorio 1A do CAD 1 Auditorio 2A do CAD 1 Auditorio A102 do Cad 2 Audito
 rio A104 do Cad 2 Auditório B101/102 do CAD 3 Auditório B106 do CAD3 Aud
 itório B107 do CAD3 Auditório B301 do CAD 3 Auditório B302 do CAD 3 Aud
 itório B306 do CAD3]
DTSTART;TZID=America/Sao_Paulo;VALUE=DATE-TIME:20240815T080000
DTEND;TZID=America/Sao_Paulo;VALUE=DATE-TIME:20240815T220000
DTSTAMP;VALUE=DATE-TIME:20260419T222904Z
UID:5b59589d15a344e5bbaac644a46b1e11@150.164.76.86:8080
CREATED;VALUE=DATE-TIME:20231106T131935Z
DESCRIPTION:<p>Feriado</p>
LAST-MODIFIED;VALUE=DATE-TIME:20231106T132007Z
URL:http://150.164.76.86:8080/cac/agenda/18191413762907885120
END:VEVENT
BEGIN:VTIMEZONE
TZID:America/Sao_Paulo
X-LIC-LOCATION:America/Sao_Paulo
BEGIN:STANDARD
DTSTART;VALUE=DATE-TIME:20240217T230000
TZNAME:BRT
TZOFFSETFROM:-0200
TZOFFSETTO:-0300
END:STANDARD
END:VTIMEZONE
END:VCALENDAR
