BEGIN:VCALENDAR
VERSION:2.0
PRODID:-//Plone.org//NONSGML plone.app.event//EN
X-WR-TIMEZONE:America/Sao_Paulo
BEGIN:VEVENT
SUMMARY:Montagem do evento 20 anos do PPG em Bioinformática em [ Auditór
 io B101/102 do CAD 3]
DTSTART;TZID=America/Sao_Paulo;VALUE=DATE-TIME:20231123T080000
DTEND;TZID=America/Sao_Paulo;VALUE=DATE-TIME:20231123T130000
DTSTAMP;VALUE=DATE-TIME:20260420T143430Z
UID:c4ca4f002c0b45bbbd1b27fbf2e84c44@150.164.76.86:8080
CREATED;VALUE=DATE-TIME:20231109T123349Z
DESCRIPTION:<p>Bloqueio para montagem do evento</p>
LAST-MODIFIED;VALUE=DATE-TIME:20231109T123420Z
URL:http://150.164.76.86:8080/cac/agenda/18188035595696245051
END:VEVENT
BEGIN:VTIMEZONE
TZID:America/Sao_Paulo
X-LIC-LOCATION:America/Sao_Paulo
BEGIN:DAYLIGHT
DTSTART;VALUE=DATE-TIME:20231015T010000
TZNAME:BRST
TZOFFSETFROM:-0300
TZOFFSETTO:-0200
END:DAYLIGHT
END:VTIMEZONE
END:VCALENDAR
