BEGIN:VCALENDAR
VERSION:2.0
PRODID:-//Plone.org//NONSGML plone.app.event//EN
X-WR-TIMEZONE:America/Sao_Paulo
BEGIN:VEVENT
SUMMARY:Reunião pais e responsáveis ingressantes Coltec 2023 em [ Audito
 rio Nobre do CAD 1]
DTSTART;TZID=America/Sao_Paulo;VALUE=DATE-TIME:20230131T190000
DTEND;TZID=America/Sao_Paulo;VALUE=DATE-TIME:20230131T213000
DTSTAMP;VALUE=DATE-TIME:20260421T175546Z
UID:aced0c53e3ba4363a233eda8b2a9d13e@150.164.76.86:8080
CREATED;VALUE=DATE-TIME:20221020T132341Z
DESCRIPTION:Reunião de recepção e informação de procedimentos acadêm
 icos aos responsáveis e alunos ingressantes no Coltec em 2023.
LAST-MODIFIED;VALUE=DATE-TIME:20221021T190408Z
URL:http://150.164.76.86:8080/cac/agenda/18182576036234657510
END:VEVENT
BEGIN:VTIMEZONE
TZID:America/Sao_Paulo
X-LIC-LOCATION:America/Sao_Paulo
BEGIN:DAYLIGHT
DTSTART;VALUE=DATE-TIME:20221016T010000
TZNAME:BRST
TZOFFSETFROM:-0300
TZOFFSETTO:-0200
END:DAYLIGHT
END:VTIMEZONE
END:VCALENDAR
