BEGIN:VCALENDAR
VERSION:2.0
PRODID:-//Plone.org//NONSGML plone.app.event//EN
X-WR-TIMEZONE:America/Sao_Paulo
BEGIN:VEVENT
SUMMARY:Formação de Bibliotecários e auxiliares (em parceria com a GERB
 I) - Apresentação do KIT de Literatura Afro-Brasileira\, Africana e Ind
 ígena e possibilidades de mediação  pedagógica nas bibliotecas. em [ A
 uditório B106 do CAD3]
DTSTART;TZID=America/Sao_Paulo;VALUE=DATE-TIME:20240911T080000
DTEND;TZID=America/Sao_Paulo;VALUE=DATE-TIME:20240911T200000
DTSTAMP;VALUE=DATE-TIME:20260419T205822Z
UID:b90f05bf6f5b4403a016b21b7ae77651@150.164.76.86:8080
CREATED;VALUE=DATE-TIME:20240814T162632Z
DESCRIPTION:<p>Data show  e som.(microfone)</p>
LAST-MODIFIED;VALUE=DATE-TIME:20240905T125811Z
URL:http://150.164.76.86:8080/cac/agenda/18162507503418566783
END:VEVENT
BEGIN:VTIMEZONE
TZID:America/Sao_Paulo
X-LIC-LOCATION:America/Sao_Paulo
BEGIN:STANDARD
DTSTART;VALUE=DATE-TIME:20240217T230000
TZNAME:BRT
TZOFFSETFROM:-0200
TZOFFSETTO:-0300
END:STANDARD
END:VTIMEZONE
END:VCALENDAR
