BEGIN:VCALENDAR
VERSION:2.0
PRODID:-//Plone.org//NONSGML plone.app.event//EN
X-WR-TIMEZONE:America/Sao_Paulo
BEGIN:VEVENT
SUMMARY:Reunião com a delegação de reitores cubanos em [ Outros espacos
 ]
DTSTART;TZID=America/Sao_Paulo;VALUE=DATE-TIME:20240418T140000
DTEND;TZID=America/Sao_Paulo;VALUE=DATE-TIME:20240418T160000
DTSTAMP;VALUE=DATE-TIME:20260420T044357Z
UID:1fef9014557d4580bc45f82d068fc985@150.164.76.86:8080
CREATED;VALUE=DATE-TIME:20240417T145306Z
DESCRIPTION:<p><span style="text-align: left\; text-decoration-thickness: 
 initial\; text-decoration-style: initial\; text-decoration-color: initial\
 ; float: none\; ">Reunião com a delegação de reitores cubanos</span></p
 >
LAST-MODIFIED;VALUE=DATE-TIME:20240417T145318Z
URL:http://150.164.76.86:8080/cac/agenda/18147655586400720173
END:VEVENT
BEGIN:VTIMEZONE
TZID:America/Sao_Paulo
X-LIC-LOCATION:America/Sao_Paulo
BEGIN:STANDARD
DTSTART;VALUE=DATE-TIME:20240217T230000
TZNAME:BRT
TZOFFSETFROM:-0200
TZOFFSETTO:-0300
END:STANDARD
END:VTIMEZONE
END:VCALENDAR
