BEGIN:VCALENDAR
VERSION:2.0
PRODID:-//Plone.org//NONSGML plone.app.event//EN
X-WR-TIMEZONE:America/Sao_Paulo
BEGIN:VEVENT
SUMMARY:Feriado Natal em [ Saguao da Reitoria Auditorio da Reitoria Gramad
 o da Reitoria Entorno da Praca de Servicos Auditorio Nobre do CAD 1 Audito
 rio 1A do CAD 1 Auditorio 2A do CAD 1 Auditorio A102 do Cad 2 Auditorio A1
 04 do Cad 2 Arena da praça de serviços Auditório B302 do CAD 3 Auditór
 io B101/102 do CAD 3 Auditório B301 do CAD 3]
DTSTART;TZID=America/Sao_Paulo;VALUE=DATE-TIME:20221225T010000
DTEND;TZID=America/Sao_Paulo;VALUE=DATE-TIME:20221225T230000
DTSTAMP;VALUE=DATE-TIME:20260421T204450Z
UID:008c0da7fbc84cc4a562897a542b43a8@150.164.76.86:8080
CREATED;VALUE=DATE-TIME:20211122T150632Z
DESCRIPTION:<p>.</p>
LAST-MODIFIED;VALUE=DATE-TIME:20230111T201052Z
URL:http://150.164.76.86:8080/cac/agenda/18143725023298964610
END:VEVENT
BEGIN:VTIMEZONE
TZID:America/Sao_Paulo
X-LIC-LOCATION:America/Sao_Paulo
BEGIN:DAYLIGHT
DTSTART;VALUE=DATE-TIME:20221016T010000
TZNAME:BRST
TZOFFSETFROM:-0300
TZOFFSETTO:-0200
END:DAYLIGHT
END:VTIMEZONE
END:VCALENDAR
