BEGIN:VCALENDAR
VERSION:2.0
PRODID:-//Plone.org//NONSGML plone.app.event//EN
X-WR-TIMEZONE:America/Sao_Paulo
BEGIN:VEVENT
SUMMARY:Reunião de Equipe da Reitora em [ Outros espacos]
DTSTART;TZID=America/Sao_Paulo;VALUE=DATE-TIME:20230811T090000
DTEND;TZID=America/Sao_Paulo;VALUE=DATE-TIME:20230811T120000
DTSTAMP;VALUE=DATE-TIME:20260421T091316Z
UID:5b2d5821ad2c49ea8316dd8d3f3c80cb@150.164.76.86:8080
CREATED;VALUE=DATE-TIME:20230725T152200Z
DESCRIPTION:<p>Reunião de Equipe</p>
LAST-MODIFIED;VALUE=DATE-TIME:20230725T152212Z
URL:http://150.164.76.86:8080/cac/agenda/18122893964265481649
END:VEVENT
BEGIN:VTIMEZONE
TZID:America/Sao_Paulo
X-LIC-LOCATION:America/Sao_Paulo
BEGIN:STANDARD
DTSTART;VALUE=DATE-TIME:20230225T230000
TZNAME:BRT
TZOFFSETFROM:-0200
TZOFFSETTO:-0300
END:STANDARD
END:VTIMEZONE
END:VCALENDAR
