BEGIN:VCALENDAR
VERSION:2.0
PRODID:-//Plone.org//NONSGML plone.app.event//EN
X-WR-TIMEZONE:America/Sao_Paulo
BEGIN:VEVENT
SUMMARY:Exame proficiência Língua Estrangeira Coltec 2023 em [ Auditorio
  Nobre do CAD 1]
DTSTART;TZID=America/Sao_Paulo;VALUE=DATE-TIME:20230206T070000
DTEND;TZID=America/Sao_Paulo;VALUE=DATE-TIME:20230206T120000
DTSTAMP;VALUE=DATE-TIME:20260421T163536Z
UID:23e03349e6c74159b24d7d324440d94e@150.164.76.86:8080
CREATED;VALUE=DATE-TIME:20221024T180227Z
DESCRIPTION:Aplicação de prova - proficiência em língua estrangeira al
 unos ingressantes 2023.
LAST-MODIFIED;VALUE=DATE-TIME:20221108T190358Z
URL:http://150.164.76.86:8080/cac/agenda/18099292395763925345
END:VEVENT
BEGIN:VTIMEZONE
TZID:America/Sao_Paulo
X-LIC-LOCATION:America/Sao_Paulo
BEGIN:DAYLIGHT
DTSTART;VALUE=DATE-TIME:20221016T010000
TZNAME:BRST
TZOFFSETFROM:-0300
TZOFFSETTO:-0200
END:DAYLIGHT
END:VTIMEZONE
END:VCALENDAR
