BEGIN:VCALENDAR
VERSION:2.0
PRODID:-//Plone.org//NONSGML plone.app.event//EN
X-WR-TIMEZONE:America/Sao_Paulo
BEGIN:VEVENT
SUMMARY:Lenin e As Greves em [ Arena da praça de serviços]
DTSTART;TZID=America/Sao_Paulo;VALUE=DATE-TIME:20240514T170000
DTEND;TZID=America/Sao_Paulo;VALUE=DATE-TIME:20240514T200000
DTSTAMP;VALUE=DATE-TIME:20260420T031304Z
UID:cc13040dd1944e91bc7b92118e2faf28@150.164.76.86:8080
CREATED;VALUE=DATE-TIME:20240503T224442Z
DESCRIPTION:Plenária junto de técnicos administrativos\, professores\, s
 indicalistas e estudantes para debater a perspectiva do autor. \nA ativida
 de constará com expositores orais sobre o tema\, de maneira simples e red
 uzida. \nA atividade está sendo organizada para um público de cerca de 1
 00 ouvintes\, entre eles professores\, técnicos e estudantes. \nÉ uma pa
 lestra expositiva\, sem mais atividades envolvidas.
LAST-MODIFIED;VALUE=DATE-TIME:20240506T142624Z
URL:http://150.164.76.86:8080/cac/agenda/18071515741812559146
END:VEVENT
BEGIN:VTIMEZONE
TZID:America/Sao_Paulo
X-LIC-LOCATION:America/Sao_Paulo
BEGIN:STANDARD
DTSTART;VALUE=DATE-TIME:20240217T230000
TZNAME:BRT
TZOFFSETFROM:-0200
TZOFFSETTO:-0300
END:STANDARD
END:VTIMEZONE
END:VCALENDAR
