BEGIN:VCALENDAR
VERSION:2.0
PRODID:-//Plone.org//NONSGML plone.app.event//EN
X-WR-TIMEZONE:America/Sao_Paulo
BEGIN:VEVENT
SUMMARY:DCC Week 2023 em [ Outros espacos]
DTSTART;TZID=America/Sao_Paulo;VALUE=DATE-TIME:20230306T080000
DTEND;TZID=America/Sao_Paulo;VALUE=DATE-TIME:20230310T180000
DTSTAMP;VALUE=DATE-TIME:20260421T145855Z
UID:a6b32f36b9064d298b8b287f43a78500@150.164.76.86:8080
CREATED;VALUE=DATE-TIME:20230208T172138Z
DESCRIPTION:<p>Gostaríamos de reservar os auditórios 101/102 ou 301/302 
 do CAD 3 para realização do DCC Week\, no período de 06 a 10 de março 
 de 2023\, com previsão de 300 participantes\, entre alunos de graduação
  e pós-graduação. Essa semana busca resgatar os eventos tradicionais qu
 e ocorriam antes da pandemia da COVID-19\, como a Escola de Verão e encon
 tros da Pós-graduação\, e\, ao mesmo tempo\, motivar e promover o ensin
 o e a pesquisa\, além de abrir o departamento para a comunidade externa e
  empresa. O objetivo do evento é proporcionar aos participantes\, alunos 
 ou não\, espaço de aprendizado diverso na área de Ciência da Computaç
 ão\, assim como fomentar as relações entre a comunidade do DCC e as emp
 resas por meio de uma Feira de Oportunidades\, com stands dos patrocinador
 es do evento. A programação pode ser consultada no https://week.dcc.ufmg
 .br/ A princípio\, pensávamos em utilizar as instalações do ICEx\, mas
  fizemos uma inscrição prévia e\, infelizmente\, não temos infraestrut
 ura adequada para este evento em nosso Instituto. Esperando contar com sua
  colaboração e parceria de sempre\, colocamo-nos à disposição para qu
 alquer dúvida ou informação adicional. - Estamos ciente que o DRCA cede
 u o espaço físico para o evento do DCC - O evento ocorrerá em modo aula
 \, sem o suporte da equipe de audiovisual da CAC. Desde já agradecemos e 
 nos colocamos à disposição para eventuais dúvidas que se fizerem neces
 sárias.</p>
LAST-MODIFIED;VALUE=DATE-TIME:20230209T143538Z
URL:http://150.164.76.86:8080/cac/agenda/18062749054472065897
END:VEVENT
BEGIN:VTIMEZONE
TZID:America/Sao_Paulo
X-LIC-LOCATION:America/Sao_Paulo
BEGIN:STANDARD
DTSTART;VALUE=DATE-TIME:20230225T230000
TZNAME:BRT
TZOFFSETFROM:-0200
TZOFFSETTO:-0300
END:STANDARD
END:VTIMEZONE
END:VCALENDAR
