BEGIN:VCALENDAR
VERSION:2.0
PRODID:-//Plone.org//NONSGML plone.app.event//EN
X-WR-TIMEZONE:America/Sao_Paulo
BEGIN:VEVENT
SUMMARY:Lançamento da Série Chagas Disease do Lancet Microbe e Lancet Gl
 obal Health Americas em [ Auditorio Nobre do CAD 1]
DTSTART;TZID=America/Sao_Paulo;VALUE=DATE-TIME:20240820T080000
DTEND;TZID=America/Sao_Paulo;VALUE=DATE-TIME:20240822T210000
DTSTAMP;VALUE=DATE-TIME:20260419T234754Z
UID:4a0d0f03afc74545929a796ca68f52b2@150.164.76.86:8080
CREATED;VALUE=DATE-TIME:20240411T161947Z
DESCRIPTION:<p>Precisaremos: Data show microfones na mesa (6 lugares)\, no
  púlpito e para a platéia No dia 21/08: Seminarios dos pesquisadores aut
 ores dos trabalhos que serão publicados na série (aguardando confirmaç
 ão dos aceites) No dia 22/08: Curso das editoras das revistas Lancet que 
 lançarão a série\, sobre publicação e foco das revistas. O evento ser
 á voltado para alunos\, pesquisadores e pessoas da área de saúde da com
 unidade.</p>
LAST-MODIFIED;VALUE=DATE-TIME:20240814T153658Z
URL:http://150.164.76.86:8080/cac/agenda/18049718805412834283
END:VEVENT
BEGIN:VTIMEZONE
TZID:America/Sao_Paulo
X-LIC-LOCATION:America/Sao_Paulo
BEGIN:STANDARD
DTSTART;VALUE=DATE-TIME:20240217T230000
TZNAME:BRT
TZOFFSETFROM:-0200
TZOFFSETTO:-0300
END:STANDARD
END:VTIMEZONE
END:VCALENDAR
