BEGIN:VCALENDAR
VERSION:2.0
PRODID:-//Plone.org//NONSGML plone.app.event//EN
X-WR-TIMEZONE:America/Sao_Paulo
BEGIN:VEVENT
SUMMARY:II Formação CMEC em [ Outros espacos Auditório B107 do CAD3]
DTSTART;TZID=America/Sao_Paulo;VALUE=DATE-TIME:20241105T090000
DTEND;TZID=America/Sao_Paulo;VALUE=DATE-TIME:20241105T120000
DTSTAMP;VALUE=DATE-TIME:20260419T175624Z
UID:43f7fbf76f474810bb9a6d5e07bdde90@150.164.76.86:8080
CREATED;VALUE=DATE-TIME:20240925T121936Z
DESCRIPTION:<p>- Horário de inicio e término: 09h às 12h\; - Necessári
 o espaço para credenciamento? Onde? Não\; - Terá cofebreak? Não\; - Ne
 cessário rede wifi? Não - Reitora estará presente? Não\; - Quantas pes
 soas vão compor a mesa? 2\; - Necessário toalha de mesa? Não\; - Necess
 ário microfone no pedestal abaixo do palco para perguntas do público? Si
 m\; - Necessário trio de bandeiras(Brasil\, Minas\, UFMG)? Não\; - Neces
 sário púlpito? Necessário microfone no púlpito? Não\, apenas na mesa\
 ; - Necessário notebook no púlpito? ou esse poderá ficar na mesa de pal
 co? Preferível que fique na mesa\; - Terá apresentação multimídia? Qu
 al formato? Apenas Power Point\; - Qual plataforma da transmissão? YouTub
 e CAC\; - Terá mediador Quem? Não\, apenas instrutor\; - Terá tradutor 
 em libras? Ainda a confirmar.</p>
LAST-MODIFIED;VALUE=DATE-TIME:20241030T130357Z
URL:http://150.164.76.86:8080/cac/agenda/18043914337029215932
END:VEVENT
BEGIN:VTIMEZONE
TZID:America/Sao_Paulo
X-LIC-LOCATION:America/Sao_Paulo
BEGIN:DAYLIGHT
DTSTART;VALUE=DATE-TIME:20241020T010000
TZNAME:BRST
TZOFFSETFROM:-0300
TZOFFSETTO:-0200
END:DAYLIGHT
END:VTIMEZONE
END:VCALENDAR
