BEGIN:VCALENDAR
VERSION:2.0
PRODID:-//Plone.org//NONSGML plone.app.event//EN
X-WR-TIMEZONE:America/Sao_Paulo
BEGIN:VEVENT
SUMMARY:Seminário Práticas Criativas em Música e Engajamento Social em 
 [ Auditório B101/102 do CAD 3]
DTSTART;TZID=America/Sao_Paulo;VALUE=DATE-TIME:20230427T090000
DTEND;TZID=America/Sao_Paulo;VALUE=DATE-TIME:20230428T170000
DTSTAMP;VALUE=DATE-TIME:20260421T145907Z
UID:7407872d12704b799fca92707ee2dbca@150.164.76.86:8080
CREATED;VALUE=DATE-TIME:20230228T130015Z
DESCRIPTION:<p>Empréstimo de espaço sem atendimento audiovisual da CAC 
 </p>
LAST-MODIFIED;VALUE=DATE-TIME:20230412T121541Z
URL:http://150.164.76.86:8080/cac/agenda/18036527792306026404
END:VEVENT
BEGIN:VTIMEZONE
TZID:America/Sao_Paulo
X-LIC-LOCATION:America/Sao_Paulo
BEGIN:STANDARD
DTSTART;VALUE=DATE-TIME:20230225T230000
TZNAME:BRT
TZOFFSETFROM:-0200
TZOFFSETTO:-0300
END:STANDARD
END:VTIMEZONE
END:VCALENDAR
