BEGIN:VCALENDAR
VERSION:2.0
PRODID:-//Plone.org//NONSGML plone.app.event//EN
X-WR-TIMEZONE:America/Sao_Paulo
BEGIN:VEVENT
SUMMARY:Fórum Técnico Minas Gerais pela Ciência em [ Auditório B106 do
  CAD3]
DTSTART;TZID=America/Sao_Paulo;VALUE=DATE-TIME:20240909T080000
DTEND;TZID=America/Sao_Paulo;VALUE=DATE-TIME:20240909T180000
DTSTAMP;VALUE=DATE-TIME:20260419T205848Z
UID:2031be66c01c4a1999c816cb62b113a7@150.164.76.86:8080
CREATED;VALUE=DATE-TIME:20240812T143741Z
DESCRIPTION:Duas palestras seguidas de discussão de documento técnico.\n
 Projetor e microfone.
LAST-MODIFIED;VALUE=DATE-TIME:20240902T182417Z
URL:http://150.164.76.86:8080/cac/agenda/18028283290333283296
END:VEVENT
BEGIN:VTIMEZONE
TZID:America/Sao_Paulo
X-LIC-LOCATION:America/Sao_Paulo
BEGIN:STANDARD
DTSTART;VALUE=DATE-TIME:20240217T230000
TZNAME:BRT
TZOFFSETFROM:-0200
TZOFFSETTO:-0300
END:STANDARD
END:VTIMEZONE
END:VCALENDAR
