BEGIN:VCALENDAR
VERSION:2.0
PRODID:-//Plone.org//NONSGML plone.app.event//EN
X-WR-TIMEZONE:America/Sao_Paulo
BEGIN:VEVENT
SUMMARY:Atividade e luta pelos direitos das pessoas nb em [ Arena da praç
 a de serviços]
DTSTART;TZID=America/Sao_Paulo;VALUE=DATE-TIME:20230410T140000
DTEND;TZID=America/Sao_Paulo;VALUE=DATE-TIME:20230410T180000
DTSTAMP;VALUE=DATE-TIME:20260421T150033Z
UID:75289207c08d4c6fa91bc788b8b34fab@150.164.76.86:8080
CREATED;VALUE=DATE-TIME:20230331T003837Z
DESCRIPTION:Os equipamentos serão fornecidos pelo DCE.\nProgramação do 
 evento:\n14-14:30 - Montagem do Evento\n14:30-15:20- Abertura\n15:20- 16:0
 0 - Roda de Conversa\n16:00- 18:00 - Apresentações artisticas.
LAST-MODIFIED;VALUE=DATE-TIME:20230331T150923Z
URL:http://150.164.76.86:8080/cac/agenda/18021015515269631814
END:VEVENT
BEGIN:VTIMEZONE
TZID:America/Sao_Paulo
X-LIC-LOCATION:America/Sao_Paulo
BEGIN:STANDARD
DTSTART;VALUE=DATE-TIME:20230225T230000
TZNAME:BRT
TZOFFSETFROM:-0200
TZOFFSETTO:-0300
END:STANDARD
END:VTIMEZONE
END:VCALENDAR
