BEGIN:VCALENDAR
VERSION:2.0
PRODID:-//Plone.org//NONSGML plone.app.event//EN
X-WR-TIMEZONE:America/Sao_Paulo
BEGIN:VEVENT
SUMMARY:Desfiles de Pesquisa de Moda II\, do Curso de Design de Moda EBA=U
 FMG em [ Auditorio A102 do Cad 2 Auditorio A104 do Cad 2]
DTSTART;TZID=America/Sao_Paulo;VALUE=DATE-TIME:20221214T080000
DTEND;TZID=America/Sao_Paulo;VALUE=DATE-TIME:20221215T210000
DTSTAMP;VALUE=DATE-TIME:20260421T222543Z
UID:1fa4059bea3442f0a7f20ff8a2043d15@150.164.76.86:8080
CREATED;VALUE=DATE-TIME:20220921T215707Z
DESCRIPTION:<p>Desfiles de conclusão da disciplina "Pesquisa de Moda II"\
 , do Curso de Design de Moda. Precisaremos de um telão para projeções d
 e aberturas de cada um dos desfiles dos alunos\, som e iluminação de pas
 sarela\, além de um notebook para gerenciar as trilhas de cada desfile. G
 entileza resgatar o pedido realizado do último desfile presencial no ano 
 de 2019.</p>
LAST-MODIFIED;VALUE=DATE-TIME:20221007T190212Z
URL:http://150.164.76.86:8080/cac/agenda/18020235359108702224
END:VEVENT
BEGIN:VTIMEZONE
TZID:America/Sao_Paulo
X-LIC-LOCATION:America/Sao_Paulo
BEGIN:DAYLIGHT
DTSTART;VALUE=DATE-TIME:20221016T010000
TZNAME:BRST
TZOFFSETFROM:-0300
TZOFFSETTO:-0200
END:DAYLIGHT
END:VTIMEZONE
END:VCALENDAR
