BEGIN:VCALENDAR
VERSION:2.0
PRODID:-//Plone.org//NONSGML plone.app.event//EN
X-WR-TIMEZONE:America/Sao_Paulo
BEGIN:VEVENT
SUMMARY:Feira da UFMG em [ Em torno da Praca de Servicos]
DTSTART;TZID=America/Sao_Paulo;VALUE=DATE-TIME:20200805T090000
DTEND;TZID=America/Sao_Paulo;VALUE=DATE-TIME:20200805T170000
DTSTAMP;VALUE=DATE-TIME:20260424T195209Z
UID:bf703292698540b2a8b3bff4a5ab0029@150.164.76.86:8080
CREATED;VALUE=DATE-TIME:20191218T210048Z
DESCRIPTION:A Feira da UFMG é uma ação de caráter educativo\, que agre
 ga cerca de 40 produtores agroecológicos da RMBH\, buscando construir um 
 circuito curto de consumo aliado à atividades de formação em temáticas
  ambientais variadas. \nNão temos previsão de uso de equipamento espec
 ífico no momento. Nos comprometemos a entrar em contato\, em tempo hábil
 \, caso essa necessidade seja prevista.
LAST-MODIFIED;VALUE=DATE-TIME:20191219T142802Z
URL:http://150.164.76.86:8080/cac/agenda/18007263647403339634
END:VEVENT
BEGIN:VTIMEZONE
TZID:America/Sao_Paulo
X-LIC-LOCATION:America/Sao_Paulo
BEGIN:STANDARD
DTSTART;VALUE=DATE-TIME:20200215T230000
TZNAME:BRT
TZOFFSETFROM:-0200
TZOFFSETTO:-0300
END:STANDARD
END:VTIMEZONE
END:VCALENDAR
