BEGIN:VCALENDAR
VERSION:2.0
PRODID:-//Plone.org//NONSGML plone.app.event//EN
X-WR-TIMEZONE:America/Sao_Paulo
BEGIN:VEVENT
SUMMARY:Oficina de aumento da cobertura vacinal de crianças e adolescente
 s em [ Auditorio A104 do Cad 2 Outros espacos]
DTSTART;TZID=America/Sao_Paulo;VALUE=DATE-TIME:20240226T070000
DTEND;TZID=America/Sao_Paulo;VALUE=DATE-TIME:20240227T230000
DTSTAMP;VALUE=DATE-TIME:20260420T080945Z
UID:9cda29383f924e44b63d1e84a09a9bf0@150.164.76.86:8080
CREATED;VALUE=DATE-TIME:20231213T184839Z
DESCRIPTION:<p>Workshop para aumento das coberturas vacinais no estado de 
 Minas Gerais\, parceria entre Observatorio de Pesquisa e Vacinação (OPES
 V - UFMG) e Secretária do Estado de Saúde de Minas Gerais.</p>
LAST-MODIFIED;VALUE=DATE-TIME:20240215T131220Z
URL:http://150.164.76.86:8080/cac/agenda/18000493506335793587
END:VEVENT
BEGIN:VTIMEZONE
TZID:America/Sao_Paulo
X-LIC-LOCATION:America/Sao_Paulo
BEGIN:STANDARD
DTSTART;VALUE=DATE-TIME:20240217T230000
TZNAME:BRT
TZOFFSETFROM:-0200
TZOFFSETTO:-0300
END:STANDARD
END:VTIMEZONE
END:VCALENDAR
